BEGIN:VCALENDAR
VERSION:2.0
PRODID:-//CEMUCx | Educación Artística Online - ECPv6.15.20//NONSGML v1.0//EN
CALSCALE:GREGORIAN
METHOD:PUBLISH
X-WR-CALNAME:CEMUCx | Educación Artística Online
X-ORIGINAL-URL:https://cemucx.com
X-WR-CALDESC:Eventos para CEMUCx | Educación Artística Online
REFRESH-INTERVAL;VALUE=DURATION:PT1H
X-Robots-Tag:noindex
X-PUBLISHED-TTL:PT1H
BEGIN:VTIMEZONE
TZID:America/Mexico_City
BEGIN:STANDARD
TZOFFSETFROM:-0600
TZOFFSETTO:-0600
TZNAME:CST
DTSTART:20250101T000000
END:STANDARD
END:VTIMEZONE
BEGIN:VEVENT
DTSTART;TZID=America/Mexico_City:20260422T200000
DTEND;TZID=America/Mexico_City:20260422T200000
DTSTAMP:20260422T024546
CREATED:20260108T111356Z
LAST-MODIFIED:20260108T111356Z
UID:46938-1776888000-1776888000@cemucx.com
SUMMARY:Storytelling visual (II): cómic y novela gráfica
DESCRIPTION:
URL:https://cemucx.com/event/storytelling-visual-ii-comic-y-novela-grafica/
CATEGORIES:Escuela de Artes Visuales
END:VEVENT
BEGIN:VEVENT
DTSTART;TZID=America/Mexico_City:20260427T200000
DTEND;TZID=America/Mexico_City:20260427T200000
DTSTAMP:20260422T024546
CREATED:20260108T111356Z
LAST-MODIFIED:20260108T111356Z
UID:46939-1777320000-1777320000@cemucx.com
SUMMARY:Color y Degradados en Illustrator
DESCRIPTION:
URL:https://cemucx.com/event/color-y-degradados-en-illustrator/
CATEGORIES:Escuela de Artes Visuales
END:VEVENT
BEGIN:VEVENT
DTSTART;TZID=America/Mexico_City:20260429T200000
DTEND;TZID=America/Mexico_City:20260429T200000
DTSTAMP:20260422T024546
CREATED:20260108T111356Z
LAST-MODIFIED:20260108T111356Z
UID:46940-1777492800-1777492800@cemucx.com
SUMMARY:Ilustración aplicada a medios contemporáneos
DESCRIPTION:
URL:https://cemucx.com/event/ilustracion-aplicada-a-medios-contemporaneos/
CATEGORIES:Escuela de Artes Visuales
END:VEVENT
BEGIN:VEVENT
DTSTART;TZID=America/Mexico_City:20260504T200000
DTEND;TZID=America/Mexico_City:20260504T200000
DTSTAMP:20260422T024546
CREATED:20260108T111356Z
LAST-MODIFIED:20260108T111356Z
UID:46941-1777924800-1777924800@cemucx.com
SUMMARY:Trabajo con Tipografía y Lettering en Illustrator
DESCRIPTION:
URL:https://cemucx.com/event/trabajo-con-tipografia-y-lettering-en-illustrator/
CATEGORIES:Escuela de Artes Visuales
END:VEVENT
BEGIN:VEVENT
DTSTART;TZID=America/Mexico_City:20260506T200000
DTEND;TZID=America/Mexico_City:20260506T200000
DTSTAMP:20260422T024546
CREATED:20260108T111356Z
LAST-MODIFIED:20260108T111356Z
UID:46942-1778097600-1778097600@cemucx.com
SUMMARY:Lettering\, tipografía e ilustración
DESCRIPTION:
URL:https://cemucx.com/event/lettering-tipografia-e-ilustracion/
CATEGORIES:Escuela de Artes Visuales
END:VEVENT
BEGIN:VEVENT
DTSTART;TZID=America/Mexico_City:20260518T200000
DTEND;TZID=America/Mexico_City:20260518T200000
DTSTAMP:20260422T024546
CREATED:20260108T111411Z
LAST-MODIFIED:20260108T111411Z
UID:46943-1779134400-1779134400@cemucx.com
SUMMARY:Creación de Logotipos e Identidad Visual en Illustrator
DESCRIPTION:
URL:https://cemucx.com/event/creacion-de-logotipos-e-identidad-visual-en-illustrator/
CATEGORIES:Escuela de Artes Visuales
END:VEVENT
BEGIN:VEVENT
DTSTART;TZID=America/Mexico_City:20260525T200000
DTEND;TZID=America/Mexico_City:20260525T200000
DTSTAMP:20260422T024546
CREATED:20260108T111411Z
LAST-MODIFIED:20260108T111411Z
UID:46944-1779739200-1779739200@cemucx.com
SUMMARY:Diseño de Ilustraciones Vectoriales\, Impresión y Creación de Identidad Visual Completa
DESCRIPTION:
URL:https://cemucx.com/event/diseno-de-ilustraciones-vectoriales-impresion-y-creacion-de-identidad-visual-completa/
CATEGORIES:Escuela de Artes Visuales
END:VEVENT
END:VCALENDAR